BEGIN:VCALENDAR
VERSION:2.0
PRODID:icalendar-ruby
CALSCALE:GREGORIAN
METHOD:PUBLISH
BEGIN:VEVENT
DTSTAMP:20260423T154749Z
UID:177-3767124@universitychapel.org
DTSTART:20261031T010000Z
DTEND:20261031T030000Z
CLASS:PUBLIC
CREATED:20260423T063329
DESCRIPTION:
LAST-MODIFIED:20260423T063329
LOCATION:Scriptorium
SUMMARY:Youth Group
URL;VALUE=URI:https://www.universitychapel.org/events/youth-group/2026-10-3
 0
END:VEVENT
END:VCALENDAR
