BEGIN:VCALENDAR
VERSION:2.0
PRODID:icalendar-ruby
CALSCALE:GREGORIAN
METHOD:PUBLISH
BEGIN:VEVENT
DTSTAMP:20260423T140203Z
UID:177-3767123@universitychapel.org
DTSTART:20261024T010000Z
DTEND:20261024T030000Z
CLASS:PUBLIC
CREATED:20260423T063329
DESCRIPTION:
LAST-MODIFIED:20260423T063329
LOCATION:Scriptorium
SUMMARY:Youth Group
URL;VALUE=URI:https://www.universitychapel.org/events/youth-group/2026-10-2
 3
END:VEVENT
END:VCALENDAR
