BEGIN:VCALENDAR
VERSION:2.0
PRODID:icalendar-ruby
CALSCALE:GREGORIAN
METHOD:PUBLISH
BEGIN:VEVENT
DTSTAMP:20260423T122829Z
UID:177-3764785@universitychapel.org
DTSTART:20261017T010000Z
DTEND:20261017T030000Z
CLASS:PUBLIC
CREATED:20260423T033800
DESCRIPTION:
LAST-MODIFIED:20260423T033800
LOCATION:Scriptorium
SUMMARY:Youth Group
URL;VALUE=URI:https://www.universitychapel.org/events/youth-group/2026-10-1
 6
END:VEVENT
END:VCALENDAR
