BEGIN:VCALENDAR
VERSION:2.0
PRODID:icalendar-ruby
CALSCALE:GREGORIAN
METHOD:PUBLISH
BEGIN:VEVENT
DTSTAMP:20260423T103253Z
UID:177-3762447@universitychapel.org
DTSTART:20261010T010000Z
DTEND:20261010T030000Z
CLASS:PUBLIC
CREATED:20260422T180857
DESCRIPTION:
LAST-MODIFIED:20260422T180857
LOCATION:Scriptorium
SUMMARY:Youth Group
URL;VALUE=URI:https://www.universitychapel.org/events/youth-group/2026-10-0
 9
END:VEVENT
END:VCALENDAR
