BEGIN:VCALENDAR
VERSION:2.0
PRODID:icalendar-ruby
CALSCALE:GREGORIAN
METHOD:PUBLISH
BEGIN:VEVENT
DTSTAMP:20260423T085440Z
UID:177-3762446@universitychapel.org
DTSTART:20261003T010000Z
DTEND:20261003T030000Z
CLASS:PUBLIC
CREATED:20260422T180857
DESCRIPTION:
LAST-MODIFIED:20260422T180857
LOCATION:Scriptorium
SUMMARY:Youth Group
URL;VALUE=URI:https://www.universitychapel.org/events/youth-group/2026-10-0
 2
END:VEVENT
END:VCALENDAR
