BEGIN:VCALENDAR
VERSION:2.0
PRODID:icalendar-ruby
CALSCALE:GREGORIAN
METHOD:PUBLISH
BEGIN:VEVENT
DTSTAMP:20260421T082233Z
UID:177-3734432@universitychapel.org
DTSTART:20260926T010000Z
DTEND:20260926T030000Z
CLASS:PUBLIC
CREATED:20260420T162820
DESCRIPTION:
LAST-MODIFIED:20260420T162820
LOCATION:Scriptorium
SUMMARY:Youth Group
URL;VALUE=URI:https://www.universitychapel.org/events/youth-group/2026-09-2
 5
END:VEVENT
END:VCALENDAR
